BEGIN:VCALENDAR
VERSION:2.0
PRODID:-//CEES | Makerere Univsity - ECPv6.15.20//NONSGML v1.0//EN
CALSCALE:GREGORIAN
METHOD:PUBLISH
X-WR-CALNAME:CEES | Makerere Univsity
X-ORIGINAL-URL:https://cees.mak.ac.ug
X-WR-CALDESC:Events for CEES | Makerere Univsity
REFRESH-INTERVAL;VALUE=DURATION:PT1H
X-Robots-Tag:noindex
X-PUBLISHED-TTL:PT1H
BEGIN:VTIMEZONE
TZID:UTC
BEGIN:STANDARD
TZOFFSETFROM:+0000
TZOFFSETTO:+0000
TZNAME:UTC
DTSTART:20240101T000000
END:STANDARD
END:VTIMEZONE
BEGIN:VEVENT
DTSTART;TZID=UTC:20251119T100000
DTEND;TZID=UTC:20251119T130000
DTSTAMP:20260419T233216
CREATED:20251114T090126Z
LAST-MODIFIED:20251118T050509Z
UID:70476-1763546400-1763557200@cees.mak.ac.ug
SUMMARY:PhD Public Defense by Rose Costa Nakawuki
DESCRIPTION:INVITATION: The Dean\, School of Education under the College of Education and External Studies (CEES)\, cordially invites you to the PhD Public Defense of the following candidate: \n\n\n\nName of the Candidate: NAKAWUKI ROSE COSTA \n\n\n\nTitle of Thesis: TEACHERS’ PROFICIENCY IN IMPLEMENTING COMPETENCE BASED CURRICULUM FORMATIVE ASSESSMENT PRACTICES IN SELECTED PUBLIC SECONDARY SCHOOLS IN MPIGI DISTRICT\, UGANDA \n\n\n\nTime: 10:00 am  \n\n\n\nVenue: School of Education Smart Room\, College of Education and External  Studies\, Makerere University \n\n\n\nSupervisors: \n\n\n\n\nDR. CHARLES KYASANKU\n\n\n\nDR. TIMOTHY TEBENKANA\n\n\n\n\nABSTRACT \n\n\n\nThis study investigated the proficiency of teachers in implementing Competence-Based Curriculum (CBC) formative assessment practices in selected public secondary schools in Mpigi District\, Uganda. Guided by Biggs’s Constructive Alignment Theory\, the research concentrated on four principal areas: teachers’ knowledge of CBC formative assessment\, their capability to design formative assessment tools\, competence in marking and scoring\, and proficiency in providing feedback. Utilizing a qualitative case study design\, data were collected through in-depth interviews with teachers\, school administrators\, and education officials\, non-participant lesson observations\, and document reviews. Thematic analysis was conducted using Atlas software. The findings reveal that while teachers possess a fundamental understanding of formative assessment as an ongoing classroom process\, their application remains significantly influenced by traditional summative approaches. Teachers exhibited emerging competence in designing formative assessment tools\, particularly in science subjects where external guides were available\, yet they encountered difficulties in developing rubrics and fully aligning tools with CBC competencies. Marking and scoring practices were inconsistent and frequently lacked the use of competency-based rubrics\, often focusing on right/wrong answers rather than the progression of skills. Feedback was predominantly oral and generic\, lacking specificity or actionable guidance to support student learning. Systemic challenges\, such as large class sizes\, limited instructional materials\, and insufficient targeted professional development\, have impeded effective implementation across all areas. This study underscores the necessity for sustained\, practice-oriented Continuous Professional Development (CPD) tailored to CBC formative assessment\, emphasizing rubric development\, competency-aligned scoring\, and effective feedback strategies. Policymakers and school leaders should address resource constraints and promote accessible national guidelines to enhance assessment fidelity. Improving teacher proficiency in CBC formative assessment is critical for advancing learner-centred education\, fostering 21st-century skills\, and achieving Uganda’s national education and development goals. \n\n\n\nKeywords: Competence-Based Curriculum\, Teacher Proficiency\, Formative Assessment \n\n\n\nYour presence and participation will be highly appreciated as we support the student in this important academic milestone.
URL:https://cees.mak.ac.ug/event/phd-public-defense-2/
LOCATION:School of Education Smart Room\, College of Education and External  Studies\, Makerere University\, Makerere University CEES\, KAMPALA\, KAMPALA\, +2560414\, Uganda
CATEGORIES:CEES Events
ATTACH;FMTTYPE=image/jpeg:https://cees.mak.ac.ug/wp-content/uploads/2025/11/Rose_Costa_Nakawuki.jpg
END:VEVENT
END:VCALENDAR