BEGIN:VCALENDAR
VERSION:2.0
PRODID:-//CEES | Makerere Univsity - ECPv6.15.20//NONSGML v1.0//EN
CALSCALE:GREGORIAN
METHOD:PUBLISH
X-WR-CALNAME:CEES | Makerere Univsity
X-ORIGINAL-URL:https://cees.mak.ac.ug
X-WR-CALDESC:Events for CEES | Makerere Univsity
REFRESH-INTERVAL;VALUE=DURATION:PT1H
X-Robots-Tag:noindex
X-PUBLISHED-TTL:PT1H
BEGIN:VTIMEZONE
TZID:UTC
BEGIN:STANDARD
TZOFFSETFROM:+0000
TZOFFSETTO:+0000
TZNAME:UTC
DTSTART:20240101T000000
END:STANDARD
END:VTIMEZONE
BEGIN:VEVENT
DTSTART;TZID=UTC:20251118T090000
DTEND;TZID=UTC:20251118T120000
DTSTAMP:20260419T191627
CREATED:20251117T113729Z
LAST-MODIFIED:20260218T083731Z
UID:70498-1763456400-1763467200@cees.mak.ac.ug
SUMMARY:PhD Public Defense by Ms. Zula Namubiru
DESCRIPTION:INVITATION: PhD Public Defense \n\n\n\nThe Dean\, School of Distance and Lifelong Learning under the College of Education and External Studies (CEES)\, cordially invites you to the PhD Public Defense of the following candidate: \n\n\n\nName of the Candidate: Ms. Zula Namubiru \n\n\n\nTitle of Thesis:  \n\n\n\nFishers’ Ways of Learning: A participatory Action Research at Kigungu ground on Lake Victoria \n\n\n\nDate:  Wednesday 18th November 2025. \n\n\n\nTime:  9:00am-12:00pm \n\n\n\nVenue:   \n\n\n\nAVU Room\, School of Distance and Lifelong Learning\, College of Education and External Studies\, Makerere University. \n\n\n\nSupervisors: \n\n\n\nDr. Aganyira Kellen (Makerere University) \n\n\n\nProf. Openjuru George Ladaah (Gulu University). \n\n\n\nProf. Josje Van Der Linden (University of Groningen)
URL:https://cees.mak.ac.ug/event/phd-public-defense-by-ms-zula-namubiru/
CATEGORIES:CEES Events
ATTACH;FMTTYPE=image/jpeg:https://cees.mak.ac.ug/wp-content/uploads/2025/11/Zula_Nam-1.jpg
END:VEVENT
END:VCALENDAR